BEGIN:VCALENDAR
VERSION:2.0
PRODID:-//Tukios.com/
BEGIN:VEVENT
UID:0daa0704-3a2c-42da-bb5d-b7c312e26b28@www.parthemore.com
DTSTAMP:20260421T182936Z
DTSTART:20260523T160000Z
DTEND:20260523T190000Z
SUMMARY:Celebration of Life
DESCRIPTION:
URL:https://www.parthemore.com/obituaries/ann-lattig
LOCATION:Mt. Pleasant Church of God 146 S. York Rd.  Dillsburg PA 17019
GEO:40.136515;-76.96417
END:VEVENT
END:VCALENDAR