BEGIN:VCALENDAR
VERSION:2.0
PRODID:-//Tukios.com/
BEGIN:VEVENT
UID:3ecddf68-153c-4023-a174-815778743b72@www.parthemore.com
DTSTAMP:20260421T180931Z
DTSTART:20260426T180000Z
DTEND:20260426T200000Z
SUMMARY:Viewing
DESCRIPTION:
URL:https://www.parthemore.com/obituaries/barbara-berkoben
LOCATION: 1303 Bridge Street  New Cumberland PA 17070
GEO:40.2342987;-76.8753165
END:VEVENT
END:VCALENDAR