BEGIN:VCALENDAR
VERSION:2.0
PRODID:-//Tukios.com/
BEGIN:VEVENT
UID:08233b9d-7c0c-4077-9505-e44a1ccab1ef@www.parthemore.com
DTSTAMP:20260421T181216Z
DTSTART:20260427T150000Z
DTEND:20260427T160000Z
SUMMARY:Mass
DESCRIPTION:
URL:https://www.parthemore.com/obituaries/barbara-berkoben
LOCATION: 1300 Bridge Street  New Cumberland PA 17070
GEO:40.2337652;-76.8759696
END:VEVENT
END:VCALENDAR