BEGIN:VCALENDAR
VERSION:2.0
PRODID:-//Tukios.com/
BEGIN:VEVENT
UID:890e4117-e2a7-4466-9349-96326a1c67ec@www.parthemore.com
DTSTAMP:20260421T180931Z
DTSTART:20260427
SUMMARY:Burial
DESCRIPTION:
URL:https://www.parthemore.com/obituaries/barbara-berkoben
LOCATION: 1313 S York Street  Mechanicsburg PA 17055
GEO:40.1925331;-77.0009329
END:VEVENT
END:VCALENDAR