BEGIN:VCALENDAR
VERSION:2.0
PRODID:-//Tukios.com/
BEGIN:VEVENT
UID:46ac69da-df58-4c52-882c-cd0106b1e0e5@www.parthemore.com
DTSTAMP:20260421T161209Z
DTSTART:20260507T180000Z
DTEND:20260507T190000Z
SUMMARY:Funeral Service
DESCRIPTION:
URL:https://www.parthemore.com/obituaries/donald-spangler
LOCATION:Silver Spring Presbyterian Church 444 Silver Spring Road  
	Mechanicsburg PA 17050
GEO:40.2387034;-77.0075583
END:VEVENT
END:VCALENDAR