BEGIN:VCALENDAR
VERSION:2.0
PRODID:-//Tukios.com/
BEGIN:VEVENT
UID:946806a7-9536-4fc7-a228-f85ff8700be4@www.parthemore.com
DTSTAMP:20260421T095053Z
DTSTART:20260421T140000Z
DTEND:20260421T150000Z
SUMMARY:Burial
DESCRIPTION:
URL:https://www.parthemore.com/obituaries/george-ringer
LOCATION: 1811 Carlisle Rd.  Camp Hill PA 17011
GEO:40.2280533;-76.911726
END:VEVENT
END:VCALENDAR