BEGIN:VCALENDAR
VERSION:2.0
PRODID:-//Tukios.com/
BEGIN:VEVENT
UID:53ae864c-effd-4c49-8c0f-3b15b4146a17@www.parthemore.com
DTSTAMP:20260421T000844Z
DTSTART:20260506T140000Z
DTEND:20260506T150000Z
SUMMARY:Visitation
DESCRIPTION:
URL:https://www.parthemore.com/obituaries/wendy-yocum
LOCATION: 1303 Bridge Street  New Cumberland PA 17070
GEO:40.2342987;-76.8753165
END:VEVENT
END:VCALENDAR