BEGIN:VCALENDAR
VERSION:2.0
PRODID:-//Tukios.com/
BEGIN:VEVENT
UID:38d8f108-e266-448a-9814-1c4fddcc6173@www.parthemore.com
DTSTAMP:20260421T000759Z
DTSTART:20260506T150000Z
DTEND:20260506T160000Z
SUMMARY:Memorial Service
DESCRIPTION:
URL:https://www.parthemore.com/obituaries/wendy-yocum
LOCATION: 1303 Bridge Street  New Cumberland PA 17070
GEO:40.2342987;-76.8753165
END:VEVENT
END:VCALENDAR